BEGIN:VCALENDAR
VERSION:2.0
PRODID:-//Natyanjali Dance - ECPv6.15.20//NONSGML v1.0//EN
CALSCALE:GREGORIAN
METHOD:PUBLISH
X-WR-CALNAME:Natyanjali Dance
X-ORIGINAL-URL:https://natyanjali.org
X-WR-CALDESC:Events for Natyanjali Dance
REFRESH-INTERVAL;VALUE=DURATION:PT1H
X-Robots-Tag:noindex
X-PUBLISHED-TTL:PT1H
BEGIN:VTIMEZONE
TZID:America/Denver
BEGIN:DAYLIGHT
TZOFFSETFROM:-0700
TZOFFSETTO:-0600
TZNAME:MDT
DTSTART:20090308T090000
END:DAYLIGHT
BEGIN:STANDARD
TZOFFSETFROM:-0600
TZOFFSETTO:-0700
TZNAME:MST
DTSTART:20091101T080000
END:STANDARD
BEGIN:DAYLIGHT
TZOFFSETFROM:-0700
TZOFFSETTO:-0600
TZNAME:MDT
DTSTART:20100314T090000
END:DAYLIGHT
BEGIN:STANDARD
TZOFFSETFROM:-0600
TZOFFSETTO:-0700
TZNAME:MST
DTSTART:20101107T080000
END:STANDARD
BEGIN:DAYLIGHT
TZOFFSETFROM:-0700
TZOFFSETTO:-0600
TZNAME:MDT
DTSTART:20110313T090000
END:DAYLIGHT
BEGIN:STANDARD
TZOFFSETFROM:-0600
TZOFFSETTO:-0700
TZNAME:MST
DTSTART:20111106T080000
END:STANDARD
BEGIN:DAYLIGHT
TZOFFSETFROM:-0700
TZOFFSETTO:-0600
TZNAME:MDT
DTSTART:20120311T090000
END:DAYLIGHT
BEGIN:STANDARD
TZOFFSETFROM:-0600
TZOFFSETTO:-0700
TZNAME:MST
DTSTART:20121104T080000
END:STANDARD
END:VTIMEZONE
BEGIN:VEVENT
DTSTART;TZID=America/Denver:20110709T170000
DTEND;TZID=America/Denver:20110709T190000
DTSTAMP:20260420T005729
CREATED:20110710T031727Z
LAST-MODIFIED:20220513T032013Z
UID:3454-1310230800-1310238000@natyanjali.org
SUMMARY:Tales and Legends
DESCRIPTION:
URL:https://natyanjali.org/event/tales-and-legends/
END:VEVENT
BEGIN:VEVENT
DTSTART;TZID=America/Denver:20100711T170000
DTEND;TZID=America/Denver:20100711T190000
DTSTAMP:20260420T005729
CREATED:20100712T043027Z
LAST-MODIFIED:20220513T043123Z
UID:3468-1278867600-1278874800@natyanjali.org
SUMMARY:Magic of the Gods
DESCRIPTION:
URL:https://natyanjali.org/event/magic-of-the-gods/
END:VEVENT
END:VCALENDAR